BEGIN:VCALENDAR
VERSION:2.0
PRODID:-//moabpets.org//NONSGML kigkonsult.se iCalcreator 2.30.10//
CALSCALE:GREGORIAN
METHOD:PUBLISH
UID:bc3fee8f-b6e1-4ad7-889a-607f93c40a12
X-WR-CALDESC:Stop by our Booth at this year's Jeep Safari Vendor Show at th
 e Spanish Trail Arena.  Help benefit our homeless community pets by purcha
 sing a custom designed HSMV Jeep Safari T-shirt or hand made reversible do
 g bandanas for your favorite 4-wheelin' pup!
X-WR-RELCALID:a669eb628a18fde31ae5c6111fd08fd9
X-WR-TIMEZONE:America/Denver
BEGIN:VTIMEZONE
TZID:America/Denver
BEGIN:STANDARD
TZNAME:MST
DTSTART:20171105T020000
TZOFFSETFROM:-0600
TZOFFSETTO:-0700
RDATE:20181104T020000
END:STANDARD
BEGIN:DAYLIGHT
TZNAME:MDT
DTSTART:20180311T020000
TZOFFSETFROM:-0700
TZOFFSETTO:-0600
RDATE:20190310T020000
END:DAYLIGHT
END:VTIMEZONE
BEGIN:VEVENT
UID:2f7f60bc-e6ce-4e68-b331-528591e9ae1d
DTSTAMP:20260419T131319Z
DESCRIPTION:Stop by our Booth at this year's Jeep Safari Vendor Show at the
  Spanish Trail Arena.  Help benefit our homeless community pets by purchas
 ing a custom designed HSMV Jeep Safari T-shirt or hand made reversible dog
  bandanas for your favorite 4-wheelin' pup!
DTSTART;TZID=America/Denver:20180329T080000
DTEND;TZID=America/Denver:20180330T180000
LOCATION:
SUMMARY:Jeep Safari Booth
END:VEVENT
END:VCALENDAR
